BEGIN:VCALENDAR
VERSION:2.0
PRODID:-//eventon.com NONSGML v1.0//EN
CALSCALE:GREGORIAN
METHOD:PUBLISH
BEGIN:VEVENT
UID:69eb9b392745f
DTSTAMP:20260424T163257Z
DTSTART:20251122T130000Z
DTEND:20251122T180000Z
LOCATION:
SUMMARY:Outdoor Extravaganza
DESCRIPTION:Event Date: November 22nd\,  2025Location: Elwell Family Food C
 enter\,  Iowa State FairgroundsTimes: Doors open at 1:00 pm\,  with the eve
 nt starting at 2:00 pm and ending at approximately 6:00 pm.\nhttps://www.za
 gazigshrine.org/events/za-ga-zig-shriners-outdoor-extravaganza/
URL:https://www.zagazigshrine.org/events/za-ga-zig-shriners-outdoor-extravaganza/
END:VEVENT
END:VCALENDAR