BEGIN:VCALENDAR
VERSION:2.0
PRODID:-//eventon.com NONSGML v1.0//EN
CALSCALE:GREGORIAN
METHOD:PUBLISH
BEGIN:VEVENT
UID:69e7d8af8295e
DTSTAMP:20260421T200607Z
DTSTART:20260501T170000Z
DTEND:20260501T190000Z
LOCATION:
SUMMARY:Taco Friday
DESCRIPTION:Taco Friday\nhttps://www.zagazigshrine.org/events/za-ga-zig-shr
 ine-taco-dinner/
URL:https://www.zagazigshrine.org/events/za-ga-zig-shrine-taco-dinner/
END:VEVENT
END:VCALENDAR