BEGIN:VCALENDAR
VERSION:2.0
PRODID:-//eventon.com NONSGML v1.0//EN
CALSCALE:GREGORIAN
METHOD:PUBLISH
BEGIN:VEVENT
UID:69e748ca55d48
DTSTAMP:20260421T095210Z
DTSTART:20260502T223000Z
DTEND:20260503T040000Z
LOCATION:
SUMMARY:2026 Chocolate & Champagne Gala
DESCRIPTION:https://events.handbid.com/auctions/2026-chocolate-and-champagn
 e-gala\nhttps://www.zagazigshrine.org/events/welcome-to-the-2026-gala-a-bla
 ck-tie-affair/
URL:https://www.zagazigshrine.org/events/welcome-to-the-2026-gala-a-black-tie-affair/
END:VEVENT
END:VCALENDAR