BEGIN:VCALENDAR
VERSION:2.0
PRODID:-//eventon.com NONSGML v1.0//EN
CALSCALE:GREGORIAN
METHOD:PUBLISH
BEGIN:VEVENT
UID:69e2fa9cafa1c
DTSTAMP:20260418T032932Z
DTSTART:20260627T160000Z
DTEND:20260628T170000Z
LOCATION:
SUMMARY:Tractor Show\,  Open House & Ride
DESCRIPTION:Tractor Show\,  Open House & Ride\nhttps://www.zagazigshrine.or
 g/events/za-ga-zig-shrine-tractor-show-open-house-and-ride/
URL:https://www.zagazigshrine.org/events/za-ga-zig-shrine-tractor-show-open-house-and-ride/
END:VEVENT
END:VCALENDAR