BEGIN:VCALENDAR
VERSION:2.0
PRODID:-//eventon.com NONSGML v1.0//EN
CALSCALE:GREGORIAN
METHOD:PUBLISH
BEGIN:VEVENT
UID:69e74865ad0b2
DTSTAMP:20260421T095029Z
DTSTART:20260614T223000Z
DTEND:20260615T023000Z
LOCATION:
SUMMARY:Jan - Jun Birthday Dinner
DESCRIPTION:Jan - Jun Birthday Dinner\nhttps://www.zagazigshrine.org/events
 /nobles-and-ladies-join-us-to-celebrate/
URL:https://www.zagazigshrine.org/events/nobles-and-ladies-join-us-to-celebrate/
END:VEVENT
END:VCALENDAR