BEGIN:VCALENDAR
VERSION:2.0
PRODID:-//eventon.com NONSGML v1.0//EN
CALSCALE:GREGORIAN
METHOD:PUBLISH
BEGIN:VEVENT
UID:69e748ca3d703
DTSTAMP:20260421T095210Z
DTSTART:20260525T150000Z
DTEND:20260525T160000Z
LOCATION:
SUMMARY:Memorial Day Service
DESCRIPTION:Memorial Day Service\nhttps://www.zagazigshrine.org/events/join
 -us-as-we-honor-those-who-so-bravely-served-and-sacrificed-for-our-country/
URL:https://www.zagazigshrine.org/events/join-us-as-we-honor-those-who-so-bravely-served-and-sacrificed-for-our-country/
END:VEVENT
END:VCALENDAR