BEGIN:VCALENDAR
VERSION:2.0
PRODID:-//eventon.com NONSGML v1.0//EN
CALSCALE:GREGORIAN
METHOD:PUBLISH
BEGIN:VEVENT
UID:69e6a2a3ad945
DTSTAMP:20260420T220315Z
DTSTART:20261104T030000Z
DTEND:20261104T030500Z
LOCATION:
SUMMARY:ISU Football or Basketball Tickets vs KS
DESCRIPTION:ISU Football or Basketball Tickets vs KS\nhttps://www.zagazigsh
 rine.org/events/your-chance-to-win/
URL:https://www.zagazigshrine.org/events/your-chance-to-win/
END:VEVENT
END:VCALENDAR